BEGIN:VCALENDAR
VERSION:2.0
PRODID:-//Lesewelten Köln - ECPv6.15.20//NONSGML v1.0//EN
CALSCALE:GREGORIAN
METHOD:PUBLISH
X-WR-CALNAME:Lesewelten Köln
X-ORIGINAL-URL:https://www.lesewelten-koeln.de
X-WR-CALDESC:Veranstaltungen für Lesewelten Köln
REFRESH-INTERVAL;VALUE=DURATION:PT1H
X-Robots-Tag:noindex
X-PUBLISHED-TTL:PT1H
BEGIN:VTIMEZONE
TZID:Europe/Berlin
BEGIN:DAYLIGHT
TZOFFSETFROM:+0100
TZOFFSETTO:+0200
TZNAME:CEST
DTSTART:20230326T010000
END:DAYLIGHT
BEGIN:STANDARD
TZOFFSETFROM:+0200
TZOFFSETTO:+0100
TZNAME:CET
DTSTART:20231029T010000
END:STANDARD
BEGIN:DAYLIGHT
TZOFFSETFROM:+0100
TZOFFSETTO:+0200
TZNAME:CEST
DTSTART:20240331T010000
END:DAYLIGHT
BEGIN:STANDARD
TZOFFSETFROM:+0200
TZOFFSETTO:+0100
TZNAME:CET
DTSTART:20241027T010000
END:STANDARD
BEGIN:DAYLIGHT
TZOFFSETFROM:+0100
TZOFFSETTO:+0200
TZNAME:CEST
DTSTART:20250330T010000
END:DAYLIGHT
BEGIN:STANDARD
TZOFFSETFROM:+0200
TZOFFSETTO:+0100
TZNAME:CET
DTSTART:20251026T010000
END:STANDARD
END:VTIMEZONE
BEGIN:VEVENT
DTSTART;TZID=Europe/Berlin:20241201T150000
DTEND;TZID=Europe/Berlin:20241201T160000
DTSTAMP:20260426T041324
CREATED:20241128T112327Z
LAST-MODIFIED:20241128T112327Z
UID:9128-1733065200-1733068800@www.lesewelten-koeln.de
SUMMARY:Vorlesen im Sportmuseum: Tag der offenen Tür zum 25-jährigen Jubiläum
DESCRIPTION:🎉 Happy Birthday\, Deutsches Sport & Olympia Museum! 🎉\nLiesbert\, unser VorleseMonster\, liiiebt Geburtstage – und natürlich feiern wir mit! 🥳 Gemeinsam mit dem gesamten LeseWelten-Team gratulieren wir unseren Museumsfreunden ganz herzlich zu 25 sportlichen Jahren! \nAm Sonntag\, den 1. Dezember\, könnt ihr diesen besonderen Anlass beim großen „Tag der offenen Tür“ erleben. Freut euch auf ein buntes Programm mit spannenden Aktivitäten – und wir sind natürlich mittendrin! 📚✨ \nHighlight um 15 Uhr:\nUnsere ehrenamtliche Vorleserin Susa Luz nimmt euch mit auf ein tierisch lustiges Abenteuer mit dem Buch „Juhu\, LetzeR!“ von Jens Rassmus (für Kinder ab 5 Jahren). Taucht ein in diese charmante Geschichte und lasst euch von Liesbert begeistern! 💙 \nDas Beste? Der Eintritt ins Museum ist den ganzen Tag frei! 👏 Nach der Lesung könnt ihr weiter feiern\, die Ausstellungen erkunden oder an anderen Aktionen teilnehmen. \n📅 Wann? Sonntag\, 1. Dezember 2024\n⏰ Vorlesestart: 15 Uhr\n📍 Wo? Deutsches Sport & Olympia Museum – Treffpunkt: Museumskasse\n👧👦 Für wen? Kinder ab 5 Jahren \nMehr Infos zu dieser und weiteren Museumslesungen findet ihr auf unserer Website – schaut einfach über den Link „LeseWelten im Museum“ in der Bio vorbei! \nWir freuen uns auf euch – kommt\, hört zu und feiert mit uns! 🥰
URL:https://www.lesewelten-koeln.de/event/vorlesen-im-sportmuseum-tag-der-offenen-tuer-zum-25-jaehrigen-jubilaeum/
LOCATION:Deutsches Sport & Olympia Museum\, Am Zollhafen 1\, Köln\, 50678\, Germany
CATEGORIES:LeseWelten im Museum
ATTACH;FMTTYPE=image/png:https://www.lesewelten-koeln.de/wp-content/uploads/2024/11/3-1.png
END:VEVENT
END:VCALENDAR